BEGIN:VCALENDAR
VERSION:2.0
PRODID:-//ISTA Postdoc Office - ECPv6.15.20//NONSGML v1.0//EN
CALSCALE:GREGORIAN
METHOD:PUBLISH
X-WR-CALNAME:ISTA Postdoc Office
X-ORIGINAL-URL:https://postdoc.pages.ista.ac.at
X-WR-CALDESC:Events for ISTA Postdoc Office
REFRESH-INTERVAL;VALUE=DURATION:PT1H
X-Robots-Tag:noindex
X-PUBLISHED-TTL:PT1H
BEGIN:VTIMEZONE
TZID:Europe/Vienna
BEGIN:DAYLIGHT
TZOFFSETFROM:+0100
TZOFFSETTO:+0200
TZNAME:CEST
DTSTART:20240331T010000
END:DAYLIGHT
BEGIN:STANDARD
TZOFFSETFROM:+0200
TZOFFSETTO:+0100
TZNAME:CET
DTSTART:20241027T010000
END:STANDARD
BEGIN:DAYLIGHT
TZOFFSETFROM:+0100
TZOFFSETTO:+0200
TZNAME:CEST
DTSTART:20250330T010000
END:DAYLIGHT
BEGIN:STANDARD
TZOFFSETFROM:+0200
TZOFFSETTO:+0100
TZNAME:CET
DTSTART:20251026T010000
END:STANDARD
BEGIN:DAYLIGHT
TZOFFSETFROM:+0100
TZOFFSETTO:+0200
TZNAME:CEST
DTSTART:20260329T010000
END:DAYLIGHT
BEGIN:STANDARD
TZOFFSETFROM:+0200
TZOFFSETTO:+0100
TZNAME:CET
DTSTART:20261025T010000
END:STANDARD
END:VTIMEZONE
BEGIN:VEVENT
DTSTART;TZID=Europe/Vienna:20250905T130000
DTEND;TZID=Europe/Vienna:20250905T160000
DTSTAMP:20260425T134835
CREATED:20250812T123328Z
LAST-MODIFIED:20250812T123328Z
UID:2451-1757077200-1757088000@postdoc.pages.ista.ac.at
SUMMARY:Present Your Poster With Impact: An Interactive Online Workshop
DESCRIPTION:If you are presenting a poster soon—or generally want to sharpen your science pitch—join ‘Present Your Poster With Impact: an Interactive Online Workshop’ on Sept 5\, 1-4pm (Zoom). \nMarloes ten Kate\, a presentation coach\, storytelling expert\, and former science journalist\, has years of experience helping scientists deliver impactful presentations. In this workshop\, she will guide you through creating and practicing a jargon-free\, engaging poster pitch. \nPlease register in Athena. The Zoom link will be shared just before the workshop.
URL:https://postdoc.pages.ista.ac.at/event/present-your-poster-with-impact-an-interactive-online-workshop/
END:VEVENT
END:VCALENDAR