BEGIN:VCALENDAR
VERSION:2.0
PRODID:-//ISTA Postdoc Office - ECPv6.15.20//NONSGML v1.0//EN
CALSCALE:GREGORIAN
METHOD:PUBLISH
X-WR-CALNAME:ISTA Postdoc Office
X-ORIGINAL-URL:https://postdoc.pages.ista.ac.at
X-WR-CALDESC:Events for ISTA Postdoc Office
REFRESH-INTERVAL;VALUE=DURATION:PT1H
X-Robots-Tag:noindex
X-PUBLISHED-TTL:PT1H
BEGIN:VTIMEZONE
TZID:Europe/Vienna
BEGIN:DAYLIGHT
TZOFFSETFROM:+0100
TZOFFSETTO:+0200
TZNAME:CEST
DTSTART:20240331T010000
END:DAYLIGHT
BEGIN:STANDARD
TZOFFSETFROM:+0200
TZOFFSETTO:+0100
TZNAME:CET
DTSTART:20241027T010000
END:STANDARD
BEGIN:DAYLIGHT
TZOFFSETFROM:+0100
TZOFFSETTO:+0200
TZNAME:CEST
DTSTART:20250330T010000
END:DAYLIGHT
BEGIN:STANDARD
TZOFFSETFROM:+0200
TZOFFSETTO:+0100
TZNAME:CET
DTSTART:20251026T010000
END:STANDARD
BEGIN:DAYLIGHT
TZOFFSETFROM:+0100
TZOFFSETTO:+0200
TZNAME:CEST
DTSTART:20260329T010000
END:DAYLIGHT
BEGIN:STANDARD
TZOFFSETFROM:+0200
TZOFFSETTO:+0100
TZNAME:CET
DTSTART:20261025T010000
END:STANDARD
END:VTIMEZONE
BEGIN:VEVENT
DTSTART;TZID=Europe/Vienna:20250623T160000
DTEND;TZID=Europe/Vienna:20250623T170000
DTSTAMP:20260424T171221
CREATED:20250603T054857Z
LAST-MODIFIED:20250603T061607Z
UID:2314-1750694400-1750698000@postdoc.pages.ista.ac.at
SUMMARY:Basics of Fellowship Writing (hybrid event)
DESCRIPTION:If you’re still interested in answering questions like the ones below\, we’d love for you to join us:\n•	Are you considering applying for a fellowship for the first time?\n•	Would you like to fund your current or future research project but don’t know where to start?\n•	Want to understand what to include in your ‘application package’? \nIf so\, this session is for you! \nHosted by the Grant Office\, we will cover: \n✅ Getting started: Turning a vague plan (or interesting but random findings) into a project plan.\n✅ Structure: Placing the right details in the right places.\n✅ Strategy: Make the evaluator’s job as easy as possible. \nHybrid Event Details:\n📆 Date: Monday\, June 23rd\n🕓 Time: 4-5 PM\n📍 Location: Moonstone / Ground floor / Seminar Room F \nZoom link: please check your emails from June 2nd for the link
URL:https://postdoc.pages.ista.ac.at/event/basics-of-fellowship-writing-hybrid-event/
LOCATION:Moonstone Bldg / Ground floor / Seminar Room F\, Am Campus 1\, Klosterneuburg\, 3400
END:VEVENT
END:VCALENDAR