BEGIN:VCALENDAR
VERSION:2.0
PRODID:-//ISTA Postdoc Office - ECPv6.15.20//NONSGML v1.0//EN
CALSCALE:GREGORIAN
METHOD:PUBLISH
X-WR-CALNAME:ISTA Postdoc Office
X-ORIGINAL-URL:https://postdoc.pages.ista.ac.at
X-WR-CALDESC:Events for ISTA Postdoc Office
REFRESH-INTERVAL;VALUE=DURATION:PT1H
X-Robots-Tag:noindex
X-PUBLISHED-TTL:PT1H
BEGIN:VTIMEZONE
TZID:Europe/Vienna
BEGIN:DAYLIGHT
TZOFFSETFROM:+0100
TZOFFSETTO:+0200
TZNAME:CEST
DTSTART:20240331T010000
END:DAYLIGHT
BEGIN:STANDARD
TZOFFSETFROM:+0200
TZOFFSETTO:+0100
TZNAME:CET
DTSTART:20241027T010000
END:STANDARD
BEGIN:DAYLIGHT
TZOFFSETFROM:+0100
TZOFFSETTO:+0200
TZNAME:CEST
DTSTART:20250330T010000
END:DAYLIGHT
BEGIN:STANDARD
TZOFFSETFROM:+0200
TZOFFSETTO:+0100
TZNAME:CET
DTSTART:20251026T010000
END:STANDARD
BEGIN:DAYLIGHT
TZOFFSETFROM:+0100
TZOFFSETTO:+0200
TZNAME:CEST
DTSTART:20260329T010000
END:DAYLIGHT
BEGIN:STANDARD
TZOFFSETFROM:+0200
TZOFFSETTO:+0100
TZNAME:CET
DTSTART:20261025T010000
END:STANDARD
END:VTIMEZONE
BEGIN:VEVENT
DTSTART;TZID=Europe/Vienna:20250603T090000
DTEND;TZID=Europe/Vienna:20250603T170000
DTSTAMP:20260424T110029
CREATED:20250410T072440Z
LAST-MODIFIED:20250415T075051Z
UID:2265-1748941200-1748970000@postdoc.pages.ista.ac.at
SUMMARY:Harnessing Social Media for Creating Impact
DESCRIPTION:This workshop will be led by Dr. Julius Wesche and it is designed to equip Postdocs and PhD Students with the skills to effectively leverage social media\, enhancing the visibility and impact of their scientific work while building a strong personal brand within and beyond ISTA. More in details\, this workshop will offer a solid introduction to social media in science communication with focus on Linkedin\, covering key strategies to expand reach\, engage with diverse audiences\, and establish credibility. It will also explore how AI tools can streamline content creation\, from generating engaging posts to optimizing outreach. This hands-on workshop provides a practical setting where participants apply insights\, crafting and refining their own content while experimenting with AI-powered tools for text\, visuals\, and video. Online personal one-on-one sessions will be offered the wek after to up to 10 participants and tailored feedback and strategic advice for long-term social media success and science impact will be provided (30 min per person). About the Instructor: Dr. Julius Wesche has 12 years of research experience at Fraunhofer Society\, Utrecht University\, and the Norwegian University of Science and Technology (NTNU). He is a science communication and social media consultant with 7 years of experience. He delivered over 30 talks and workshops with major institutions across Europe. Founder of the enPower Energiewende Podcast (over 1 Million streams) and the Science Communication Accelerator Podcast (over 50\,000 streams). Author of the book Science Impact – a Researcher`s guide to Social Media\, Podcasts\, and AI”\, to be published by Cambridge University Press in late 2025. \n➕ Optional individual 30-minute coaching session available upon request after training (up to 10 participants). \nRegistration: https://athena.ista.ac.at/node/49446
URL:https://postdoc.pages.ista.ac.at/event/harnessing-social-media-for-creating-impact/
LOCATION:Moonstone Seminar room C\, Am Campus 1\, Klosterneuburg\, 3400\, Austria
END:VEVENT
END:VCALENDAR